BEGIN:VCALENDAR
VERSION:2.0
PRODID:-//Exploreum Science Center - ECPv6.15.20//NONSGML v1.0//EN
CALSCALE:GREGORIAN
METHOD:PUBLISH
X-WR-CALNAME:Exploreum Science Center
X-ORIGINAL-URL:https://www.exploreum.com
X-WR-CALDESC:Events for Exploreum Science Center
REFRESH-INTERVAL;VALUE=DURATION:PT1H
X-Robots-Tag:noindex
X-PUBLISHED-TTL:PT1H
BEGIN:VTIMEZONE
TZID:America/Chicago
BEGIN:DAYLIGHT
TZOFFSETFROM:-0600
TZOFFSETTO:-0500
TZNAME:CDT
DTSTART:20250309T080000
END:DAYLIGHT
BEGIN:STANDARD
TZOFFSETFROM:-0500
TZOFFSETTO:-0600
TZNAME:CST
DTSTART:20251102T070000
END:STANDARD
BEGIN:DAYLIGHT
TZOFFSETFROM:-0600
TZOFFSETTO:-0500
TZNAME:CDT
DTSTART:20260308T080000
END:DAYLIGHT
BEGIN:STANDARD
TZOFFSETFROM:-0500
TZOFFSETTO:-0600
TZNAME:CST
DTSTART:20261101T070000
END:STANDARD
BEGIN:DAYLIGHT
TZOFFSETFROM:-0600
TZOFFSETTO:-0500
TZNAME:CDT
DTSTART:20270314T080000
END:DAYLIGHT
BEGIN:STANDARD
TZOFFSETFROM:-0500
TZOFFSETTO:-0600
TZNAME:CST
DTSTART:20271107T070000
END:STANDARD
END:VTIMEZONE
BEGIN:VEVENT
DTSTART;VALUE=DATE:20260127
DTEND;VALUE=DATE:20260524
DTSTAMP:20260420T170012
CREATED:20250729T204000Z
LAST-MODIFIED:20250729T204000Z
UID:9731-1769472000-1779580799@www.exploreum.com
SUMMARY:Galileo Galilei Exhibit
DESCRIPTION:January 27 – May 23\, 2026\n \n \nThis touring exhibition focuses on showcasing Galileo Galilei’s significant contributions to science\, particularly his impact on our understanding of physics\, astronomy\, and the scientific method. Visitors gain insights into how Galileo’s fearless and pioneering work in science\, physics\, and astronomy shaped our modern World. The Galileo exhibition provides exciting opportunities for STEAM learning (Science\, Technology\, Engineering\, Arts and Maths) particularly in the fields of: physics geometry\, mathematics and astronomy through hands-on interactive experiments. \nA great fit for any museum or science center with links to space or a planetarium\, as Galileo’s science played a critical role in humanity’s travels into outer space and the moon landing. \nClick here for Admission Pricing\, Hours\, and more!  \n \nThe exhibition delves into specific themes related to Galileo’s work: \n• Astronomy: Galileo’s astronomical observations and discoveries\, likely including his support for heliocentrism. \n• Simple Machines: Exploring Galileo’s studies on the principles of simple machines. \n• Gravity\, Motion\, and Time: Examining Galileo’s groundbreaking experiments and theories related to gravity\, motion\, and the concept of time. \n• Military and Ballistics: Highlighting Galileo’s work in military science and ballistics. \n• The Birth of Experimental Science: Emphasizing Galileo’s role as a pioneer of the experimental scientific method.
URL:https://www.exploreum.com/event/galileo-galilei-exhibit/
END:VEVENT
BEGIN:VEVENT
DTSTART;VALUE=DATE:20260601
DTEND;VALUE=DATE:20260628
DTSTAMP:20260420T170012
CREATED:20260224T185504Z
LAST-MODIFIED:20260301T161244Z
UID:9923-1780272000-1782604799@www.exploreum.com
SUMMARY:Summer Academy Sessions 2026!
DESCRIPTION:Summer Academy Sessions 2026!\n \nGet ready for a summer of discovery\, creativity\, and hands-on fun at our Summer Academy.\nDesigned to spark curiosity and build confidence\, our engaging programs let kids explore exciting science topics through experiments\, projects\, and interactive activities. Our 4-5-year class\, 6-7-year class\, and 8-10-year class programs run June 1st-July 31st (excluding June 29th-July 3rd)\, giving younger learners plenty of time to explore\, build\, and ask big questions. Our 11-13-year-old program runs June 1st-July 17th (also excluding June 29th-July 3rd)\, offering deeper challenges that encourage critical thinking and teamwork. Whether your child is a budding inventor or just loves to explore how the world works\, this is a summer they won’t forget. They will gain a love for science that they will carry with them long after it ends. \nKey Registration & Academy Details\nCost & Classes\n\nWeekly registration is $190 for Non-Members and $155 for Members.\nFor any purchases made for Summer Academy that you need a refund or reimbursement for\, please contact Danyelle Adams at dadams@exploreum.com by May 8th\, 2026.\nThere will be four different classes available per weekly registration: a 4-5-year class\, a 6-7-year class\, an 8-10-year class\, and an 11-13- year class.\nA credit card must be on file to cover any additional fees. All credit card forms will be shredded at the end of the Summer Academy.\nFor a list of weekly themes click HERE\n\nRequired T-Shirts\n\nA Purple Exploreum Academy T-shirt is required for all students and can be purchased for $12 during registration.\n\nLunch & Snacks\n\nPlease pack a lunch and a water bottle for your child. Lunches will not be available for purchase.\nThe Exploreum will provide two snacks per day.\n\nConsent Form\nIn addition to your registration\, you must complete and sign: \n\nTo fill the Parent Consent web form\, click HERE!\nTo fill the Credit Card Form\, click HERE!\n\nDaily Schedule & Logistics\n\nSession hours: 8:00 a.m. to 4:30 p.m.\nCheck-in: 8:00 a.m. to 9:00 a.m.\nCheck-out: 3:30 p.m. to 4:30 p.m.\nOur 4-5-year class and 11-13-year class has a strict capacity of 15 students.\nOur 6-7-year class and 8-10-year class has a strict capacity of 20 students.\n\nImportant Reminders\n\nIf you need to pick up your child early\, you must notify an Exploreum educator in person or by phone.\nA $20 charge will be applied for check-outs after 4:40 p.m.\nClick HERE\, for additional information about our academy rules & procedures.\n\nQuestions & Registration\nFor any questions about the registration process\, please contact Danyelle Adams at dadams@exploreum.com or (251) 208-6279. \nTo register\, please scroll through the calendar until you reach June 1st-July 31st\, and the corresponding links will be available there.
URL:https://www.exploreum.com/event/summer-academy-sessions-2026/
END:VEVENT
BEGIN:VEVENT
DTSTART;VALUE=DATE:20260704
DTEND;VALUE=DATE:20260705
DTSTAMP:20260420T170012
CREATED:20260113T173956Z
LAST-MODIFIED:20260113T174026Z
UID:9878-1783123200-1783209599@www.exploreum.com
SUMMARY:CLOSED
DESCRIPTION:HAPPY INDEPENDENCE DAY!\nWe will be closed on July 4th\, 2026\, and will resume regular business hours on Tuesday\, July 7th\, 2026.
URL:https://www.exploreum.com/event/closed-6/
END:VEVENT
BEGIN:VEVENT
DTSTART;VALUE=DATE:20260707
DTEND;VALUE=DATE:20260801
DTSTAMP:20260420T170012
CREATED:20260224T185828Z
LAST-MODIFIED:20260301T161311Z
UID:9925-1783382400-1785542399@www.exploreum.com
SUMMARY:Summer Academy Sessions 2026!
DESCRIPTION:Summer Academy Sessions 2026!\n \nGet ready for a summer of discovery\, creativity\, and hands-on fun at our Summer Academy.\nDesigned to spark curiosity and build confidence\, our engaging programs let kids explore exciting science topics through experiments\, projects\, and interactive activities. Our 4-5-year class\, 6-7-year class\, and 8-10-year class programs run June 1st-July 31st (excluding June 29th-July 3rd)\, giving younger learners plenty of time to explore\, build\, and ask big questions. Our 11-13-year-old program runs June 1st-July 17th (also excluding June 29th-July 3rd)\, offering deeper challenges that encourage critical thinking and teamwork. Whether your child is a budding inventor or just loves to explore how the world works\, this is a summer they won’t forget. They will gain a love for science that they will carry with them long after it ends. \nKey Registration & Academy Details\nCost & Classes\n\nWeekly registration is $190 for Non-Members and $155 for Members.\nFor any purchases made for Summer Academy that you need a refund or reimbursement for\, please contact Danyelle Adams at dadams@exploreum.com by May 8th\, 2026.\nThere will be four different classes available per weekly registration: a 4-5-year class\, a 6-7-year class\, an 8-10-year class\, and an 11-13- year class.\nA credit card must be on file to cover any additional fees. All credit card forms will be shredded at the end of the Summer Academy.\nFor a list of weekly themes click HERE\n\nRequired T-Shirts\n\nA Purple Exploreum Academy T-shirt is required for all students and can be purchased for $12 during registration.\n\nLunch & Snacks\n\nPlease pack a lunch and a water bottle for your child. Lunches will not be available for purchase.\nThe Exploreum will provide two snacks per day.\n\nConsent Form\nIn addition to your registration\, you must complete and sign: \n\nTo fill the Parent Consent web form\, click HERE!\nTo fill the Credit Card Form\, click HERE!\n\nDaily Schedule & Logistics\n\nSession hours: 8:00 a.m. to 4:30 p.m.\nCheck-in: 8:00 a.m. to 9:00 a.m.\nCheck-out: 3:30 p.m. to 4:30 p.m.\nOur 4-5-year class and 11-13-year class has a strict capacity of 15 students.\nOur 6-7-year class and 8-10-year class has a strict capacity of 20 students.\n\nImportant Reminders\n\nIf you need to pick up your child early\, you must notify an Exploreum educator in person or by phone.\nA $20 charge will be applied for check-outs after 4:40 p.m.\nClick HERE\, for additional information about our academy rules & procedures.\n\nQuestions & Registration\nFor any questions about the registration process\, please contact Danyelle Adams at dadams@exploreum.com or (251) 208-6279. \nTo register\, please scroll through the calendar until you reach June 1st-July 31st\, and the corresponding links will be available there.
URL:https://www.exploreum.com/event/summer-academy-sessions-2026-2/
END:VEVENT
END:VCALENDAR