BEGIN:VCALENDAR
VERSION:2.0
PRODID:-//Exploreum Science Center - ECPv6.15.20//NONSGML v1.0//EN
CALSCALE:GREGORIAN
METHOD:PUBLISH
X-WR-CALNAME:Exploreum Science Center
X-ORIGINAL-URL:https://www.exploreum.com
X-WR-CALDESC:Events for Exploreum Science Center
REFRESH-INTERVAL;VALUE=DURATION:PT1H
X-Robots-Tag:noindex
X-PUBLISHED-TTL:PT1H
BEGIN:VTIMEZONE
TZID:America/Chicago
BEGIN:DAYLIGHT
TZOFFSETFROM:-0600
TZOFFSETTO:-0500
TZNAME:CDT
DTSTART:20250309T080000
END:DAYLIGHT
BEGIN:STANDARD
TZOFFSETFROM:-0500
TZOFFSETTO:-0600
TZNAME:CST
DTSTART:20251102T070000
END:STANDARD
BEGIN:DAYLIGHT
TZOFFSETFROM:-0600
TZOFFSETTO:-0500
TZNAME:CDT
DTSTART:20260308T080000
END:DAYLIGHT
BEGIN:STANDARD
TZOFFSETFROM:-0500
TZOFFSETTO:-0600
TZNAME:CST
DTSTART:20261101T070000
END:STANDARD
BEGIN:DAYLIGHT
TZOFFSETFROM:-0600
TZOFFSETTO:-0500
TZNAME:CDT
DTSTART:20270314T080000
END:DAYLIGHT
BEGIN:STANDARD
TZOFFSETFROM:-0500
TZOFFSETTO:-0600
TZNAME:CST
DTSTART:20271107T070000
END:STANDARD
END:VTIMEZONE
BEGIN:VEVENT
DTSTART;VALUE=DATE:20260127
DTEND;VALUE=DATE:20260524
DTSTAMP:20260420T103556
CREATED:20250729T204000Z
LAST-MODIFIED:20250729T204000Z
UID:9731-1769472000-1779580799@www.exploreum.com
SUMMARY:Galileo Galilei Exhibit
DESCRIPTION:January 27 – May 23\, 2026\n \n \nThis touring exhibition focuses on showcasing Galileo Galilei’s significant contributions to science\, particularly his impact on our understanding of physics\, astronomy\, and the scientific method. Visitors gain insights into how Galileo’s fearless and pioneering work in science\, physics\, and astronomy shaped our modern World. The Galileo exhibition provides exciting opportunities for STEAM learning (Science\, Technology\, Engineering\, Arts and Maths) particularly in the fields of: physics geometry\, mathematics and astronomy through hands-on interactive experiments. \nA great fit for any museum or science center with links to space or a planetarium\, as Galileo’s science played a critical role in humanity’s travels into outer space and the moon landing. \nClick here for Admission Pricing\, Hours\, and more!  \n \nThe exhibition delves into specific themes related to Galileo’s work: \n• Astronomy: Galileo’s astronomical observations and discoveries\, likely including his support for heliocentrism. \n• Simple Machines: Exploring Galileo’s studies on the principles of simple machines. \n• Gravity\, Motion\, and Time: Examining Galileo’s groundbreaking experiments and theories related to gravity\, motion\, and the concept of time. \n• Military and Ballistics: Highlighting Galileo’s work in military science and ballistics. \n• The Birth of Experimental Science: Emphasizing Galileo’s role as a pioneer of the experimental scientific method.
URL:https://www.exploreum.com/event/galileo-galilei-exhibit/
END:VEVENT
BEGIN:VEVENT
DTSTART;TZID=America/Chicago:20260425T180000
DTEND;TZID=America/Chicago:20260425T210000
DTSTAMP:20260420T103556
CREATED:20260306T165500Z
LAST-MODIFIED:20260417T205044Z
UID:9931-1777140000-1777150800@www.exploreum.com
SUMMARY:21+ After Hours: Under the Tuscan Sun
DESCRIPTION:Looking for a night out that’s anything but ordinary? Whether you’re taking a well-deserved break from the kids\, planning a fun and unique date night\, or gathering your friends for an unforgettable ladies’ night out\, we’ve got the perfect experience for you! \nJoin us for Exploreum After Hours\, an exclusive 21+ movie night series where we bring the best of cinema to life in a way only the Exploreum can. We will be playing the classic film “Under the Tuscan Sun”! \nThis movie night is packed with interactive entertainment\, including:\nExplore Galileo: The Science of Antiquity prior to the film.\nLive science demos that bring movie magic to life.\nLocal art/maker market featuring:\n– Birdie and Cricket LLC\n– NeatsUniques\n– Vintage Verb\n– WAT Decor & Design\n– Legacy Loot Vintage\n– Play House Spices\nFood truck on site serving up delicious eats from Twist Sushi.\nA chance to win great prizes from our vendors—including tickets to see the Blues Traveler at the Saenger Theatre! \nOh\, and did we mention the best part? It’s BYOB/W! That’s right—you can bring your favorite beer (up to one six-pack per person) or wine (one bottle per person) to sip on while you enjoy the show. (No liquor allowed.) Our cafe will also offer some traditional fare (popcorn\, snacks\, and sodas) along with some Italian-themed dishes. \nSo\, grab your drinks\, bring your crew\, and get ready for an epic night of movies\, science\, and fun—all in the heart of downtown Mobile. And of course\, we encourage everyone to drink responsibly and plan a safe ride home or make a night of it by staying at one of our stellar downtown hotels. \n*Reminder this is a 21+ event so have your ID’s ready to be checked at the door* \n*If you are a vendor and would like to be a part of the market\, click HERE to fill out an application! *\nTickets are very limited so grab your tickets now! \n  \n \n 
URL:https://www.exploreum.com/event/21-after-hours-under-the-tuscan-sun/
END:VEVENT
END:VCALENDAR